BEGIN:VCALENDAR
VERSION:2.0
PRODID:-//Alcoholics Anonymous - ECPv6.15.20//NONSGML v1.0//EN
CALSCALE:GREGORIAN
METHOD:PUBLISH
X-WR-CALNAME:Alcoholics Anonymous
X-ORIGINAL-URL:https://alcoholics-anonymous.eu
X-WR-CALDESC:Events for Alcoholics Anonymous
REFRESH-INTERVAL;VALUE=DURATION:PT1H
X-Robots-Tag:noindex
X-PUBLISHED-TTL:PT1H
BEGIN:VTIMEZONE
TZID:Europe/Berlin
BEGIN:DAYLIGHT
TZOFFSETFROM:+0100
TZOFFSETTO:+0200
TZNAME:CEST
DTSTART:20250330T010000
END:DAYLIGHT
BEGIN:STANDARD
TZOFFSETFROM:+0200
TZOFFSETTO:+0100
TZNAME:CET
DTSTART:20251026T010000
END:STANDARD
BEGIN:DAYLIGHT
TZOFFSETFROM:+0100
TZOFFSETTO:+0200
TZNAME:CEST
DTSTART:20260329T010000
END:DAYLIGHT
BEGIN:STANDARD
TZOFFSETFROM:+0200
TZOFFSETTO:+0100
TZNAME:CET
DTSTART:20261025T010000
END:STANDARD
BEGIN:DAYLIGHT
TZOFFSETFROM:+0100
TZOFFSETTO:+0200
TZNAME:CEST
DTSTART:20270328T010000
END:DAYLIGHT
BEGIN:STANDARD
TZOFFSETFROM:+0200
TZOFFSETTO:+0100
TZNAME:CET
DTSTART:20271031T010000
END:STANDARD
END:VTIMEZONE
BEGIN:VEVENT
DTSTART;TZID=Europe/Berlin:20260807T140000
DTEND;TZID=Europe/Berlin:20260809T130000
DTSTAMP:20260421T121907
CREATED:20260227T143053Z
LAST-MODIFIED:20260330T204409Z
UID:90582-1786111200-1786280400@alcoholics-anonymous.eu
SUMMARY:The 40th Annual English speaking AA Netherlands Convention
DESCRIPTION:A weekend of fellowship\, meetings\, workshops and speakers. With Al-Anon participation. Contact the organisers using the contact form on the event website.
URL:https://alcoholics-anonymous.eu/event/the-40th-annual-english-speaking-aa-netherlands-convention/
LOCATION:Conferentiecentrum Bovendonk Hofstraat 8 4741 AK HOEVEN\, Hofstraat 8\, AK Hoeven\, 4741\, Netherlands
CATEGORIES:AA Meetings,Al-Anon Participation,Convention
END:VEVENT
BEGIN:VEVENT
DTSTART;TZID=Europe/Berlin:20260814T140000
DTEND;TZID=Europe/Berlin:20260816T140000
DTSTAMP:20260421T121907
CREATED:20260130T075854Z
LAST-MODIFIED:20260130T075854Z
UID:90483-1786716000-1786888800@alcoholics-anonymous.eu
SUMMARY:DACHYPAA  - live fast die sober 2026
DESCRIPTION:Let’s Celebrate Recovery Together! DACHYPAA is made up of DACH (D = Germany\, A = Austria\, CH = Switzerland) and YPAA – Young People in Alcoholics Anonymous.\nYPAA meetings provide a platform where young alcoholics – or those in early recovery – can identify and connect with others.\nThere is no age limit. YOUNG PEOPLE in AA means that everyone who feels young at heart and is willing to grow in recovery is warmly welcome. \nEvent flyer: here \nEvent Cost: 25€ registration\nAccommodation: 145€ incl. full board
URL:https://alcoholics-anonymous.eu/event/dachypaa-live-fast-die-sober-2026/
LOCATION:Jugendherberge Bad Homburg\, Mühlenweg 17\, Bad Homburg\, Frankfurt am Main\, 61348\, Germany
CATEGORIES:AA Meetings,Convention,Sobriety Event,YPAA - Young Persons
ATTACH;FMTTYPE=image/jpeg:https://alcoholics-anonymous.eu/wp-content/uploads/2026/01/Screenshot-2026-01-30-at-08.52.37.jpg
END:VEVENT
BEGIN:VEVENT
DTSTART;VALUE=DATE:20260925
DTEND;VALUE=DATE:20260928
DTSTAMP:20260421T121907
CREATED:20251214T195437Z
LAST-MODIFIED:20251214T195455Z
UID:90277-1790294400-1790553599@alcoholics-anonymous.eu
SUMMARY:9th International Al-Anon Convention with AA and ACA participation
DESCRIPTION:Save the date – More information coming soon
URL:https://alcoholics-anonymous.eu/event/9th-international-al-anon-convention-with-aa-and-aca-participation/
LOCATION:Seminarhaus Grainau\, Alpspitzstraße 6\, Grainau\, 82491\, Germany
CATEGORIES:AA Meetings,Al-Anon,Sobriety Event
ATTACH;FMTTYPE=image/jpeg:https://alcoholics-anonymous.eu/wp-content/uploads/2025/12/Screenshot-2025-12-14-195018.jpg
END:VEVENT
BEGIN:VEVENT
DTSTART;TZID=Europe/Berlin:20261002T080000
DTEND;TZID=Europe/Berlin:20261004T213000
DTSTAMP:20260421T121907
CREATED:20251206T195904Z
LAST-MODIFIED:20251207T215407Z
UID:90248-1790928000-1791149400@alcoholics-anonymous.eu
SUMMARY:Mallorca AA international convention 2026 - Happy\, Joyous and Free
DESCRIPTION:SAVE THE DATE \nPuerto Pollensa. \nhttps://www.cabot-hotels.com/es/ \nMore Details will be available in the coming weeks. \nEvent Flyer: here
URL:https://alcoholics-anonymous.eu/event/mallorca-aa-international-convention-2026-happy-joyous-and-free/
LOCATION:Carer del Bot 5\, Puerto Pollensa. 07470. Mallorca. Spain\, Puerto Pollensa\, Mallorca\, 07470\, Spain
CATEGORIES:AA Meetings,Al-Anon,Convention,Sobriety Event,YPAA - Young Persons
ATTACH;FMTTYPE=image/jpeg:https://alcoholics-anonymous.eu/wp-content/uploads/2025/12/Screenshot-2025-12-07-214516.jpg
ORGANIZER;CN="A.A. Mallorca":MAILTO:aaconventionmallorca@gmail.com
END:VEVENT
BEGIN:VEVENT
DTSTART;TZID=Europe/Berlin:20261007T130000
DTEND;TZID=Europe/Berlin:20261011T130000
DTSTAMP:20260421T121907
CREATED:20260213T195437Z
LAST-MODIFIED:20260213T195437Z
UID:90549-1791378000-1791723600@alcoholics-anonymous.eu
SUMMARY:Costa Brava AA International Convention 2026
DESCRIPTION:7 to 11 October. \n4* Hotel & Spa. Full schedule of meetings\, keynote speakers\, workshops\, sobriety countdown\, spiritual farewell etc. \nEntertainment. Old castle & beach town\, shops\, cafes\, markets etc! \nAl-Anon & ACA participation. \n€30 ticket for the 5 day event or a €15 day ticket \n Event Flyer here!
URL:https://alcoholics-anonymous.eu/event/costa-brava-aa-international-convention-2026/
LOCATION:4* Golden Bahia Hotel & Spa\, 29\, Avinguda Puerto Rico\, Tossa de Mar\, Spain\, Girona\, 17320\, Spain
CATEGORIES:AA Meetings,Al-Anon Participation,Convention,Workshop
ATTACH;FMTTYPE=image/jpeg:https://alcoholics-anonymous.eu/wp-content/uploads/2026/02/698f393d8587c.jpg
ORGANIZER;CN="Costa Brava AA Convention Committee":MAILTO:admi.costabrava-convention@outlook.com
END:VEVENT
END:VCALENDAR