BEGIN:VCALENDAR
VERSION:2.0
PRODID:-//Alcoholics Anonymous - ECPv6.15.20//NONSGML v1.0//EN
CALSCALE:GREGORIAN
METHOD:PUBLISH
X-WR-CALNAME:Alcoholics Anonymous
X-ORIGINAL-URL:https://alcoholics-anonymous.eu
X-WR-CALDESC:Events for Alcoholics Anonymous
REFRESH-INTERVAL;VALUE=DURATION:PT1H
X-Robots-Tag:noindex
X-PUBLISHED-TTL:PT1H
BEGIN:VTIMEZONE
TZID:Europe/Berlin
BEGIN:DAYLIGHT
TZOFFSETFROM:+0100
TZOFFSETTO:+0200
TZNAME:CEST
DTSTART:20240331T010000
END:DAYLIGHT
BEGIN:STANDARD
TZOFFSETFROM:+0200
TZOFFSETTO:+0100
TZNAME:CET
DTSTART:20241027T010000
END:STANDARD
BEGIN:DAYLIGHT
TZOFFSETFROM:+0100
TZOFFSETTO:+0200
TZNAME:CEST
DTSTART:20250330T010000
END:DAYLIGHT
BEGIN:STANDARD
TZOFFSETFROM:+0200
TZOFFSETTO:+0100
TZNAME:CET
DTSTART:20251026T010000
END:STANDARD
BEGIN:DAYLIGHT
TZOFFSETFROM:+0100
TZOFFSETTO:+0200
TZNAME:CEST
DTSTART:20260329T010000
END:DAYLIGHT
BEGIN:STANDARD
TZOFFSETFROM:+0200
TZOFFSETTO:+0100
TZNAME:CET
DTSTART:20261025T010000
END:STANDARD
END:VTIMEZONE
BEGIN:VEVENT
DTSTART;TZID=Europe/Berlin:20250906T103000
DTEND;TZID=Europe/Berlin:20250907T130000
DTSTAMP:20260421T101307
CREATED:20250706T184041Z
LAST-MODIFIED:20250816T141310Z
UID:89687-1757154600-1757250000@alcoholics-anonymous.eu
SUMMARY:Continental European Regional Assembly - September 2025 - Fuengirola\, Spain
DESCRIPTION:Event: Continental European Regional Assembly Meeting\nDate: September 6th – 7th 2025 | 6th of September – 11:00 Welcome To Region | 12:00 – 16:30 Assembly Day 1 | 7th of September – 09:00 – 13:00 Assembly Day 2 (all times are CEST)\nPlace: Hotel IPV Palace & Spa\, Fuengirola\, Costa Del Sol\, Spain \n\nAll members are welcome to attend as observers\, either in person or on-line via Zoom. Due to potential technical and audio-visual issues we strongly encourage in-person attendance where possible.\nAccess the September 2025 Assembly Invitation with more information about booking your accommodation\, the local area\, public transport and local AA meetings.\nAgenda Assembly September 6th – 7th (includes zoom details for joining online)\nDraft Minutes June 2025 (to be approved at the assembly)\nPlease email secretary.cer@aamail.org for any questions. (Please do not email to ask for the zoom login details. They are listed in the agenda)
URL:https://alcoholics-anonymous.eu/event/continental-european-regional-assembly-september-2025-fuengirola-spain/
LOCATION:Hotel IPV Palace & Spa\, Carretera A7. Km 1018\, Fuengirola\, 29640\, Spain
CATEGORIES:Regional Assembly
ATTACH;FMTTYPE=image/png:https://alcoholics-anonymous.eu/wp-content/uploads/2022/04/Regional-Assembly.png
ORGANIZER;CN="CER ASSEMBLY":MAILTO:ecomm.cer@aamail.org
END:VEVENT
END:VCALENDAR