BEGIN:VCALENDAR
VERSION:2.0
PRODID:-//Alcoholics Anonymous - ECPv6.15.20//NONSGML v1.0//EN
CALSCALE:GREGORIAN
METHOD:PUBLISH
X-WR-CALNAME:Alcoholics Anonymous
X-ORIGINAL-URL:https://alcoholics-anonymous.eu
X-WR-CALDESC:Events for Alcoholics Anonymous
REFRESH-INTERVAL;VALUE=DURATION:PT1H
X-Robots-Tag:noindex
X-PUBLISHED-TTL:PT1H
BEGIN:VTIMEZONE
TZID:Europe/Berlin
BEGIN:DAYLIGHT
TZOFFSETFROM:+0100
TZOFFSETTO:+0200
TZNAME:CEST
DTSTART:20230326T010000
END:DAYLIGHT
BEGIN:STANDARD
TZOFFSETFROM:+0200
TZOFFSETTO:+0100
TZNAME:CET
DTSTART:20231029T010000
END:STANDARD
BEGIN:DAYLIGHT
TZOFFSETFROM:+0100
TZOFFSETTO:+0200
TZNAME:CEST
DTSTART:20240331T010000
END:DAYLIGHT
BEGIN:STANDARD
TZOFFSETFROM:+0200
TZOFFSETTO:+0100
TZNAME:CET
DTSTART:20241027T010000
END:STANDARD
BEGIN:DAYLIGHT
TZOFFSETFROM:+0100
TZOFFSETTO:+0200
TZNAME:CEST
DTSTART:20250330T010000
END:DAYLIGHT
BEGIN:STANDARD
TZOFFSETFROM:+0200
TZOFFSETTO:+0100
TZNAME:CET
DTSTART:20251026T010000
END:STANDARD
END:VTIMEZONE
BEGIN:VEVENT
DTSTART;TZID=Europe/Berlin:20240316T100000
DTEND;TZID=Europe/Berlin:20240316T120000
DTSTAMP:20260422T133733
CREATED:20230123T162430Z
LAST-MODIFIED:20231119T001557Z
UID:61206-1710583200-1710590400@alcoholics-anonymous.eu
SUMMARY:CER Pre-Conference Webinar on 2024 Conference Questions
DESCRIPTION:This is an opportunity for Region Representatives\, GSR’s or individuals to discuss their Intergroup\, Group or individual responses to questions for 2024 Conference with the CER Delegates team via Zoom. \nThe Delegates will be taking notes of any responses given at the webinar and will be taking the group conscience of CER to Conference in April 2024. You may also join as an observer. \nhttps://us02web.zoom.us/j/995811178 \nMeeting ID: 995 811 178 \nContact: confdel.cer@aamail.org
URL:https://alcoholics-anonymous.eu/event/cer-delegates-webinar-on-conference-questions/
LOCATION:Online Zoom
CATEGORIES:Conference Questions,Regional Assembly
ORGANIZER;CN="CER Delegates":MAILTO:confdel.cer@aamail.org
END:VEVENT
BEGIN:VEVENT
DTSTART;TZID=Europe/Berlin:20240302T120000
DTEND;TZID=Europe/Berlin:20240303T130000
DTSTAMP:20260422T133733
CREATED:20240123T204518Z
LAST-MODIFIED:20240214T161631Z
UID:79545-1709380800-1709470800@alcoholics-anonymous.eu
SUMMARY:Continental European Regional Assembly - March 2024 - Munich
DESCRIPTION:Event: Continental European Regional Assembly meeting\nDate: March 2nd and 3rd 2024\nTime: 12:00 – 5:00pm on Saturday\, 9am – 1pm on Sunday.\nPlace: NH München Messe\, Eggenfeldener Straße 100\, 81929 Munich\, Germany \n\nAll members are welcome to attend as observers\, either in person or on-line via Zoom.\nThere will be a ‘Welcome to Region’ session at 11:00am on Saturday. Anyone new to CER is encouraged to attend to learn more about our region. CER Officers will introduce themselves and their service discipline in this session.\nHere you can find the agenda (including details on how to join on Zoom). Due to potential technical and audio-visual issues we strongly encourage in-person attendance where possible.\nPlease see the invitation for more details for booking your accommodation\, arranging your travels\, getting around in Munich and local meetings.\nPlease email secretary.cer@aamail.org for any questions.
URL:https://alcoholics-anonymous.eu/event/continental-european-regional-assembly-march-2024/
LOCATION:NH München Messe\, Eggenfeldener Straße 100\, Munich\, 81929\, Germany
CATEGORIES:Regional Assembly
ATTACH;FMTTYPE=image/png:https://alcoholics-anonymous.eu/wp-content/uploads/2022/04/Regional-Assembly.png
ORGANIZER;CN="CER ASSEMBLY":MAILTO:ecomm.cer@aamail.org
END:VEVENT
END:VCALENDAR